BEGIN:VCALENDAR
VERSION:2.0
PRODID:-//ChamberMaster//Event Calendar 2.0//EN
METHOD:PUBLISH
X-PUBLISHED-TTL:P1H
REFRESH-INTERVAL:P1H
CALSCALE:GREGORIAN
BEGIN:VTIMEZONE
TZID:America/Montreal
BEGIN:DAYLIGHT
RRULE:FREQ=YEARLY;BYMONTH=3;BYDAY=2SU
DTSTART:20070101T000000
TZOFFSETFROM:-0500
TZOFFSETTO:-0400
TZNAME:Eastern Daylight Time
END:DAYLIGHT
BEGIN:STANDARD
RRULE:FREQ=YEARLY;BYMONTH=11;BYDAY=1SU
DTSTART:20070101T000000
TZOFFSETFROM:-0400
TZOFFSETTO:-0500
TZNAME:Eastern Standard Time
END:STANDARD
END:VTIMEZONE
BEGIN:VEVENT
DTSTART;TZID=America/Montreal:20260506T173000
DTEND;TZID=America/Montreal:20260506T200000
X-MICROSOFT-CDO-ALLDAYEVENT:FALSE
SUMMARY:IPC Meeting: Overview of the 2026 Connecticut State Building Code\, updates from the State Building Inspector Omarys C. Vasquez\, AIA\, NOMA.
DESCRIPTION:TBD
X-ALT-DESC;FMTTYPE=text/html:<!DOCTYPE html><html><head><title></title></head><body aria-disabled="false"><p>TBD</p></body></html>
LOCATION:39 Elm St West Haven CT 06516
UID:e.2951.1335774
SEQUENCE:3
DTSTAMP:20260425T192448Z
URL:https://members.cbc-ct.org/events/Details/ipc-meeting-overview-of-the-2026-connecticut-state-building-code-updates-from-the-state-building-inspector-omarys-c-vasquez-aia-noma-1568100?sourceTypeId=Hub
END:VEVENT
END:VCALENDAR
